BEGIN:VCALENDAR
VERSION:2.0
PRODID:-//DPSG Holzhausen/Ohrbeck - ECPv6.14.0//NONSGML v1.0//EN
CALSCALE:GREGORIAN
METHOD:PUBLISH
X-ORIGINAL-URL:https://www.dpsg-holzhausen.de
X-WR-CALDESC:Veranstaltungen für DPSG Holzhausen/Ohrbeck
REFRESH-INTERVAL;VALUE=DURATION:PT1H
X-Robots-Tag:noindex
X-PUBLISHED-TTL:PT1H
BEGIN:VTIMEZONE
TZID:Europe/Berlin
BEGIN:DAYLIGHT
TZOFFSETFROM:+0100
TZOFFSETTO:+0200
TZNAME:CEST
DTSTART:20260329T010000
END:DAYLIGHT
BEGIN:STANDARD
TZOFFSETFROM:+0200
TZOFFSETTO:+0100
TZNAME:CET
DTSTART:20261025T010000
END:STANDARD
END:VTIMEZONE
BEGIN:VEVENT
DTSTART;VALUE=DATE:20260307
DTEND;VALUE=DATE:20260308
DTSTAMP:20260424T153924
CREATED:20251109T131755Z
LAST-MODIFIED:20251109T131755Z
UID:3592-1772841600-1772927999@www.dpsg-holzhausen.de
SUMMARY:Diözesanversammlung
DESCRIPTION:
URL:https://www.dpsg-holzhausen.de/event/dioezesanversammlung/
CATEGORIES:DPSG
END:VEVENT
BEGIN:VEVENT
DTSTART;VALUE=DATE:20260213
DTEND;VALUE=DATE:20260216
DTSTAMP:20260424T153924
CREATED:20250717T144332Z
LAST-MODIFIED:20251109T134524Z
UID:3452-1770940800-1771199999@www.dpsg-holzhausen.de
SUMMARY:Stammeswochenende
DESCRIPTION:
URL:https://www.dpsg-holzhausen.de/event/stammeswochenende/
LOCATION:Diözesanzentrum Lünne
CATEGORIES:Lager,Stamm
END:VEVENT
BEGIN:VEVENT
DTSTART;VALUE=DATE:20260124
DTEND;VALUE=DATE:20260125
DTSTAMP:20260424T153924
CREATED:20250717T152907Z
LAST-MODIFIED:20250717T152907Z
UID:3458-1769212800-1769299199@www.dpsg-holzhausen.de
SUMMARY:Stufenkonferenzen
DESCRIPTION:
URL:https://www.dpsg-holzhausen.de/event/stufenkonferenzen/
LOCATION:Diözesanzentrum Lünne
CATEGORIES:Stamm
END:VEVENT
END:VCALENDAR