BEGIN:VCALENDAR
VERSION:2.0
PRODID:-//DPSG Holzhausen/Ohrbeck - ECPv6.14.0//NONSGML v1.0//EN
CALSCALE:GREGORIAN
METHOD:PUBLISH
X-ORIGINAL-URL:https://www.dpsg-holzhausen.de
X-WR-CALDESC:Veranstaltungen für DPSG Holzhausen/Ohrbeck
REFRESH-INTERVAL;VALUE=DURATION:PT1H
X-Robots-Tag:noindex
X-PUBLISHED-TTL:PT1H
BEGIN:VTIMEZONE
TZID:Europe/Berlin
BEGIN:DAYLIGHT
TZOFFSETFROM:+0100
TZOFFSETTO:+0200
TZNAME:CEST
DTSTART:20260329T010000
END:DAYLIGHT
BEGIN:STANDARD
TZOFFSETFROM:+0200
TZOFFSETTO:+0100
TZNAME:CET
DTSTART:20261025T010000
END:STANDARD
END:VTIMEZONE
BEGIN:VEVENT
DTSTART;VALUE=DATE:20260501
DTEND;VALUE=DATE:20260504
DTSTAMP:20260424T172457
CREATED:20250717T144842Z
LAST-MODIFIED:20251109T134540Z
UID:3454-1777593600-1777852799@www.dpsg-holzhausen.de
SUMMARY:Diözesanlager
DESCRIPTION:
URL:https://www.dpsg-holzhausen.de/event/dioezesanlager/
LOCATION:Diözesanzentrum Lünne
CATEGORIES:Diözese
END:VEVENT
BEGIN:VEVENT
DTSTART;VALUE=DATE:20260514
DTEND;VALUE=DATE:20260515
DTSTAMP:20260424T172457
CREATED:20250717T153052Z
LAST-MODIFIED:20250717T153052Z
UID:3462-1778716800-1778803199@www.dpsg-holzhausen.de
SUMMARY:Scheunenfest
DESCRIPTION:
URL:https://www.dpsg-holzhausen.de/event/scheunenfest-2/
LOCATION:Hof Potthoff\, Haunhorstweg 31\, Georgsmarienhütte\, 49124
CATEGORIES:Aktionen
END:VEVENT
END:VCALENDAR